BEGIN:VCALENDAR
VERSION:2.0
PRODID:-//eventon.com NONSGML v1.0//EN
BEGIN:VEVENT
UID:69e73e476f8da
DTSTAMP:20260421T110719
DTSTART:20231222
DTEND:20231222
TZID:Europe/Berlin
LOCATION:
SUMMARY:GeLi Zuordn.-Liste 01/2024
DESCRIPTION: GeLi Zuordn.-Liste 01/2024\nhttps://www.smartservice.de/events/geli-zuordn-liste-01-2024/
URL:https://www.smartservice.de/events/geli-zuordn-liste-01-2024/
END:VEVENT
END:VCALENDAR