BEGIN:VCALENDAR
VERSION:2.0
PRODID:-//eventon.com NONSGML v1.0//EN
BEGIN:VEVENT
UID:69e73eef4648c
DTSTAMP:20260421T111007
DTSTART:20231227
DTEND:20231227
TZID:Europe/Berlin
LOCATION:
SUMMARY:Aktiv. BK/LF Summen 01/2024
DESCRIPTION: Aktiv. BK/LF Summen 01/2024\nhttps://www.smartservice.de/events/aktiv-bk-lf-summen-01-2024/
URL:https://www.smartservice.de/events/aktiv-bk-lf-summen-01-2024/
END:VEVENT
END:VCALENDAR