BEGIN:VCALENDAR
VERSION:2.0
PRODID:-//eventon.com NONSGML v1.0//EN
BEGIN:VEVENT
UID:69e73e8b84b4a
DTSTAMP:20260421T110827
DTSTART:20240226
DTEND:20240226
TZID:Europe/Berlin
LOCATION:
SUMMARY:Vers. BKZOL an BKV 03/2024
DESCRIPTION: Vers. BKZOL an BKV 03/2024\nhttps://www.smartservice.de/events/vers-bkzol-an-bkv-03-2024/
URL:https://www.smartservice.de/events/vers-bkzol-an-bkv-03-2024/
END:VEVENT
END:VCALENDAR