BEGIN:VCALENDAR
VERSION:2.0
PRODID:-//eventon.com NONSGML v1.0//EN
BEGIN:VEVENT
UID:69e88c3bd7bbe
DTSTAMP:20260422T105211
DTSTART:20240424
DTEND:20240424
TZID:Europe/Berlin
LOCATION:
SUMMARY:Vers. Dekl.-Liste an MGV 05/2024
DESCRIPTION: Vers. Dekl.-Liste an MGV 05/2024\nhttps://www.smartservice.de/events/vers-dekl-liste-an-mgv-05-2024/
URL:https://www.smartservice.de/events/vers-dekl-liste-an-mgv-05-2024/
END:VEVENT
END:VCALENDAR