BEGIN:VCALENDAR
VERSION:2.0
PRODID:-//eventon.com NONSGML v1.0//EN
BEGIN:VEVENT
UID:69e73fcdb64d8
DTSTAMP:20260421T111349
DTSTART:20250424
DTEND:20250424
TZID:Europe/Berlin
LOCATION:
SUMMARY:GeLi Zuordn.-Liste 05/2025
DESCRIPTION: GeLi Zuordn.-Liste 05/2025\nhttps://www.smartservice.de/events/geli-zuordn-liste-05-2025/
URL:https://www.smartservice.de/events/geli-zuordn-liste-05-2025/
END:VEVENT
END:VCALENDAR