BEGIN:VCALENDAR
VERSION:2.0
PRODID:-//eventon.com NONSGML v1.0//EN
BEGIN:VEVENT
UID:69e73e67007dc
DTSTAMP:20260421T110751
DTSTART:20250520
DTEND:20250520
TZID:Europe/Berlin
LOCATION:
SUMMARY:Ende Erstaufschl.Recht NB/ÜNB 04/2025
DESCRIPTION: Ende Erstaufschl.Recht NB/ÜNB 04/2025\nhttps://www.smartservice.de/events/ende-erstaufschl-recht-nb-uenb-04-2025/
URL:https://www.smartservice.de/events/ende-erstaufschl-recht-nb-uenb-04-2025/
END:VEVENT
END:VCALENDAR