BEGIN:VCALENDAR
VERSION:2.0
PRODID:-//eventon.com NONSGML v1.0//EN
BEGIN:VEVENT
UID:69e88e98dbb07
DTSTAMP:20260422T110216
DTSTART:20260602
DTEND:20260602
TZID:Europe/Berlin
LOCATION:
SUMMARY:Abst. NKP M+20 04/2026
DESCRIPTION: Abst. NKP M+20 04/2026\nhttps://www.smartservice.de/events/abst-nkp-m20-04-2026/
URL:https://www.smartservice.de/events/abst-nkp-m20-04-2026/
END:VEVENT
END:VCALENDAR