BEGIN:VCALENDAR
VERSION:2.0
PRODID:-//eventon.com NONSGML v1.0//EN
BEGIN:VEVENT
UID:69e73e8b8e0f6
DTSTAMP:20260421T110827
DTSTART:20261223
DTEND:20261223
TZID:Europe/Berlin
LOCATION:
SUMMARY:Aktiv. BK/LF Summen 01/2027
DESCRIPTION: Aktiv. BK/LF Summen 01/2027\nhttps://www.smartservice.de/events/aktiv-bk-lf-summen-01-2027/
URL:https://www.smartservice.de/events/aktiv-bk-lf-summen-01-2027/
END:VEVENT
END:VCALENDAR